BEGIN:VCALENDAR
VERSION:2.0
PRODID:spatie/icalendar-generator
DESCRIPTION:Events from Dynamic Southern Region
X-WR-CALDESC:Events from Dynamic Southern Region
REFRESH-INTERVAL;VALUE=DURATION:PT1440M
X-PUBLISHED-TTL:PT1440M
BEGIN:VTIMEZONE
TZID:America/New_York
BEGIN:STANDARD
DTSTART:20251102T020000Z
TZOFFSETFROM:-0400
TZOFFSETTO:-0500
END:STANDARD
BEGIN:DAYLIGHT
DTSTART:20260308T020000Z
TZOFFSETFROM:-0500
TZOFFSETTO:-0400
END:DAYLIGHT
END:VTIMEZONE
BEGIN:VTIMEZONE
TZID:UTC
BEGIN:STANDARD
DTSTART:20250727T130754Z
TZOFFSETFROM:+0000
TZOFFSETTO:+0000
END:STANDARD
END:VTIMEZONE
BEGIN:VEVENT
UID:777-9
DTSTAMP:20260423T130754Z
SUMMARY:Regional Leadership Team Monthly Meeting
LOCATION:
ORGANIZER;CN=Kelli:MAILTO:kelli.sibert.dst@gmail.com
RRULE:FREQ=MONTHLY;BYDAY=5TU;UNTIL=20260624T000000Z
DTSTART;TZID=America/New_York:20260414T200000
DTEND;TZID=America/New_York:20260414T211500
X-ALT-DESC;FMTTYPE=TEXT/HTML:Monthly meeting with the Regional Director and
  Regional Representative for the Regional Leadership Team. Link to join is
  sent directly to all Regional Leadership Team Chairs and Co-Chairs.
CATEGORIES:Regional Leadership Team
URL;VALUE=URI:https://dstsouthernregion.com/mc-events/regional-leadership-t
 eam-monthly-meeting/?mc_id=777
METHOD:PUBLISH
END:VEVENT
END:VCALENDAR