BEGIN:VCALENDAR
VERSION:2.0
PRODID:spatie/icalendar-generator
DESCRIPTION:Events from Dynamic Southern Region
X-WR-CALDESC:Events from Dynamic Southern Region
REFRESH-INTERVAL;VALUE=DURATION:PT1440M
X-PUBLISHED-TTL:PT1440M
BEGIN:VTIMEZONE
TZID:America/New_York
BEGIN:STANDARD
DTSTART:20251102T020000Z
TZOFFSETFROM:-0400
TZOFFSETTO:-0500
END:STANDARD
BEGIN:DAYLIGHT
DTSTART:20260308T020000Z
TZOFFSETFROM:-0500
TZOFFSETTO:-0400
END:DAYLIGHT
END:VTIMEZONE
BEGIN:VTIMEZONE
TZID:UTC
BEGIN:STANDARD
DTSTART:20250727T130734Z
TZOFFSETFROM:+0000
TZOFFSETTO:+0000
END:STANDARD
END:VTIMEZONE
BEGIN:VEVENT
UID:631-17
DTSTAMP:20260423T130734Z
SUMMARY:Southern Region Exec Check
LOCATION:
ORGANIZER;CN=Kelli:MAILTO:kelli.sibert.dst@gmail.com
RRULE:FREQ=MONTHLY;BYDAY=5TU;UNTIL=20260624T000000Z
DTSTART;TZID=America/New_York:20260421T200000
DTEND;TZID=America/New_York:20260421T211500
X-ALT-DESC;FMTTYPE=TEXT/HTML:Monthly meeting with the Regional Director and
  Regional Representative for chapter Executive Committee members. Link to 
 join is sent directly to all chapter Executive Committee Officers.
CATEGORIES:Chapter Executive Committee
URL;VALUE=URI:https://dstsouthernregion.com/mc-events/southern-region-exec-
 check/?mc_id=631
METHOD:PUBLISH
END:VEVENT
END:VCALENDAR