BEGIN:VCALENDAR
VERSION:2.0
PRODID:spatie/icalendar-generator
DESCRIPTION:Events from Dynamic Southern Region
X-WR-CALDESC:Events from Dynamic Southern Region
REFRESH-INTERVAL;VALUE=DURATION:PT1440M
X-PUBLISHED-TTL:PT1440M
BEGIN:VTIMEZONE
TZID:America/New_York
BEGIN:STANDARD
DTSTART:20251102T020000Z
TZOFFSETFROM:-0400
TZOFFSETTO:-0500
END:STANDARD
BEGIN:DAYLIGHT
DTSTART:20260308T020000Z
TZOFFSETFROM:-0500
TZOFFSETTO:-0400
END:DAYLIGHT
BEGIN:STANDARD
DTSTART:20261101T020000Z
TZOFFSETFROM:-0400
TZOFFSETTO:-0500
END:STANDARD
END:VTIMEZONE
BEGIN:VTIMEZONE
TZID:UTC
BEGIN:STANDARD
DTSTART:20250729T190945Z
TZOFFSETFROM:+0000
TZOFFSETTO:+0000
END:STANDARD
END:VTIMEZONE
BEGIN:VEVENT
UID:6027-497
DTSTAMP:20260425T190945Z
SUMMARY:Gamma Zeta Chapter Anniversary
LOCATION:
ORGANIZER;CN=Kelli:MAILTO:kelli.sibert.dst@gmail.com
RRULE:FREQ=YEARLY;BYMONTH=05;BYDAY=17;UNTIL=20350517T000000Z
DTSTART;TZID=America/New_York;VALUE=DATE:20260517
DTEND;TZID=America/New_York;VALUE=DATE:20260518
X-ALT-DESC;FMTTYPE=TEXT/HTML:Happy Charter Day to the GAMMA ZETA Chapter in
  the Peach State of Georgia!
CATEGORIES:Chapter Anniversary
URL;VALUE=URI:https://dstsouthernregion.com/mc-events/gamma-zeta-chapter-an
 niversary/?mc_id=6027
METHOD:PUBLISH
END:VEVENT
END:VCALENDAR