BEGIN:VCALENDAR
VERSION:2.0
PRODID:spatie/icalendar-generator
DESCRIPTION:Events from Dynamic Southern Region
X-WR-CALDESC:Events from Dynamic Southern Region
REFRESH-INTERVAL;VALUE=DURATION:PT1440M
X-PUBLISHED-TTL:PT1440M
BEGIN:VTIMEZONE
TZID:America/New_York
BEGIN:STANDARD
DTSTART:20251102T020000Z
TZOFFSETFROM:-0400
TZOFFSETTO:-0500
END:STANDARD
BEGIN:DAYLIGHT
DTSTART:20260308T020000Z
TZOFFSETFROM:-0500
TZOFFSETTO:-0400
END:DAYLIGHT
BEGIN:STANDARD
DTSTART:20261101T020000Z
TZOFFSETFROM:-0400
TZOFFSETTO:-0500
END:STANDARD
END:VTIMEZONE
BEGIN:VTIMEZONE
TZID:UTC
BEGIN:STANDARD
DTSTART:20250730T015215Z
TZOFFSETFROM:+0000
TZOFFSETTO:+0000
END:STANDARD
END:VTIMEZONE
BEGIN:VEVENT
UID:5782-164
DTSTAMP:20260426T015215Z
SUMMARY:Green County Alumnae Chapter Anniversary
LOCATION:
ORGANIZER;CN=Tarsheika West:MAILTO:shanny8389@gmail.com
RRULE:FREQ=YEARLY;BYMONTH=06;BYDAY=05;UNTIL=20360605T000000Z
DTSTART;TZID=America/New_York;VALUE=DATE:20260605
DTEND;TZID=America/New_York;VALUE=DATE:20260606
X-ALT-DESC;FMTTYPE=TEXT/HTML:Happy Charter Day to the GREEN COUNTY ALUMNAE 
 Chapter in Alabama the Beautiful!
CATEGORIES:Chapter Anniversary,  Open Events
URL;VALUE=URI:https://dstsouthernregion.com/mc-events/green-county-alumnae-
 chapter-anniversary/?mc_id=5782
METHOD:PUBLISH
END:VEVENT
END:VCALENDAR