BEGIN:VCALENDAR
VERSION:2.0
PRODID:spatie/icalendar-generator
DESCRIPTION:Events from Dynamic Southern Region
X-WR-CALDESC:Events from Dynamic Southern Region
REFRESH-INTERVAL;VALUE=DURATION:PT1440M
X-PUBLISHED-TTL:PT1440M
BEGIN:VTIMEZONE
TZID:America/New_York
BEGIN:STANDARD
DTSTART:20251102T020000Z
TZOFFSETFROM:-0400
TZOFFSETTO:-0500
END:STANDARD
BEGIN:DAYLIGHT
DTSTART:20260308T020000Z
TZOFFSETFROM:-0500
TZOFFSETTO:-0400
END:DAYLIGHT
BEGIN:STANDARD
DTSTART:20261101T020000Z
TZOFFSETFROM:-0400
TZOFFSETTO:-0500
END:STANDARD
END:VTIMEZONE
BEGIN:VTIMEZONE
TZID:UTC
BEGIN:STANDARD
DTSTART:20250729T160113Z
TZOFFSETFROM:+0000
TZOFFSETTO:+0000
END:STANDARD
END:VTIMEZONE
BEGIN:VEVENT
UID:5184-249
DTSTAMP:20260425T160113Z
SUMMARY:Theta Rho Chapter Anniversary
LOCATION:
ORGANIZER;CN=Sheryl Walker:MAILTO:wlkrs.rgr17@gmail.com
RRULE:FREQ=YEARLY;BYMONTH=05;BYDAY=22;UNTIL=20350522T000000Z
DTSTART;TZID=America/New_York;VALUE=DATE:20260522
DTEND;TZID=America/New_York;VALUE=DATE:20260523
X-ALT-DESC;FMTTYPE=TEXT/HTML:Happy Charter Day to the THETA RHO Chapter in 
 the Volunteer State of Tennessee!
CATEGORIES:Chapter Anniversary,  Open Events
URL;VALUE=URI:https://dstsouthernregion.com/mc-events/theta-rho-chapter-ann
 iversary/?mc_id=5184
METHOD:PUBLISH
END:VEVENT
END:VCALENDAR