BEGIN:VCALENDAR
VERSION:2.0
PRODID:spatie/icalendar-generator
DESCRIPTION:Events from Dynamic Southern Region
X-WR-CALDESC:Events from Dynamic Southern Region
REFRESH-INTERVAL;VALUE=DURATION:PT1440M
X-PUBLISHED-TTL:PT1440M
BEGIN:VTIMEZONE
TZID:America/New_York
BEGIN:STANDARD
DTSTART:20261101T020000Z
TZOFFSETFROM:-0400
TZOFFSETTO:-0500
END:STANDARD
BEGIN:DAYLIGHT
DTSTART:20270314T020000Z
TZOFFSETFROM:-0500
TZOFFSETTO:-0400
END:DAYLIGHT
END:VTIMEZONE
BEGIN:VTIMEZONE
TZID:UTC
BEGIN:STANDARD
DTSTART:20250729T124518Z
TZOFFSETFROM:+0000
TZOFFSETTO:+0000
END:STANDARD
END:VTIMEZONE
BEGIN:VEVENT
UID:5072-228
DTSTAMP:20260425T124518Z
SUMMARY:Alpha Beta Chapter Anniversary
LOCATION:
ORGANIZER;CN=Kelli:MAILTO:kelli.sibert.dst@gmail.com
RRULE:FREQ=YEARLY;BYMONTH=03;BYDAY=13;UNTIL=20350313T000000Z
DTSTART;TZID=America/New_York;VALUE=DATE:20270313
DTEND;TZID=America/New_York;VALUE=DATE:20270314
X-ALT-DESC;FMTTYPE=TEXT/HTML:Happy Charter Day to the ALPHA BETA Chapter in
  the Volunteer State of Tennessee!
CATEGORIES:Chapter Anniversary
URL;VALUE=URI:https://dstsouthernregion.com/mc-events/alpha-beta-chapter-an
 niversary/?mc_id=5072
METHOD:PUBLISH
END:VEVENT
END:VCALENDAR