BEGIN:VCALENDAR
VERSION:2.0
PRODID:spatie/icalendar-generator
DESCRIPTION:Events from Dynamic Southern Region
X-WR-CALDESC:Events from Dynamic Southern Region
REFRESH-INTERVAL;VALUE=DURATION:PT1440M
X-PUBLISHED-TTL:PT1440M
BEGIN:VTIMEZONE
TZID:America/New_York
BEGIN:STANDARD
DTSTART:20251102T020000Z
TZOFFSETFROM:-0400
TZOFFSETTO:-0500
END:STANDARD
BEGIN:DAYLIGHT
DTSTART:20260308T020000Z
TZOFFSETFROM:-0500
TZOFFSETTO:-0400
END:DAYLIGHT
END:VTIMEZONE
BEGIN:VTIMEZONE
TZID:UTC
BEGIN:STANDARD
DTSTART:20250727T130710Z
TZOFFSETFROM:+0000
TZOFFSETTO:+0000
END:STANDARD
END:VTIMEZONE
BEGIN:VEVENT
UID:4779-311
DTSTAMP:20260423T130710Z
SUMMARY:Martin Alumnae Chapter Anniversary
LOCATION:
ORGANIZER;CN=Kelli:MAILTO:kelli.sibert.dst@gmail.com
RRULE:FREQ=YEARLY;BYMONTH=04;BYDAY=18;UNTIL=20350418T000000Z
DTSTART;TZID=America/New_York;VALUE=DATE:20260418
DTEND;TZID=America/New_York;VALUE=DATE:20260419
X-ALT-DESC;FMTTYPE=TEXT/HTML:Happy Charter Day to the MARTIN ALUMNAE Chapte
 r in the Volunteer State of Tennessee!
CATEGORIES:Chapter Anniversary,  Open Events
URL;VALUE=URI:https://dstsouthernregion.com/mc-events/martin-alumnae-chapte
 r-anniversary/?mc_id=4779
METHOD:PUBLISH
END:VEVENT
END:VCALENDAR