BEGIN:VCALENDAR
VERSION:2.0
PRODID:spatie/icalendar-generator
DESCRIPTION:Events from Dynamic Southern Region
X-WR-CALDESC:Events from Dynamic Southern Region
REFRESH-INTERVAL;VALUE=DURATION:PT1440M
X-PUBLISHED-TTL:PT1440M
BEGIN:VTIMEZONE
TZID:America/New_York
BEGIN:STANDARD
DTSTART:20261101T020000Z
TZOFFSETFROM:-0400
TZOFFSETTO:-0500
END:STANDARD
BEGIN:DAYLIGHT
DTSTART:20270314T020000Z
TZOFFSETFROM:-0500
TZOFFSETTO:-0400
END:DAYLIGHT
END:VTIMEZONE
BEGIN:VTIMEZONE
TZID:UTC
BEGIN:STANDARD
DTSTART:20250729T131713Z
TZOFFSETFROM:+0000
TZOFFSETTO:+0000
END:STANDARD
END:VTIMEZONE
BEGIN:VEVENT
UID:4349-210
DTSTAMP:20260425T131713Z
SUMMARY:Hall County Alumnae Chapter Anniversary
LOCATION:
ORGANIZER;CN=Kelli:MAILTO:kelli.sibert.dst@gmail.com
RRULE:FREQ=YEARLY;BYMONTH=03;BYDAY=31;UNTIL=20350331T000000Z
DTSTART;TZID=America/New_York;VALUE=DATE:20270331
DTEND;TZID=America/New_York;VALUE=DATE:20270401
X-ALT-DESC;FMTTYPE=TEXT/HTML:Happy Charter Day to the HALL COUNTY ALUMNAE C
 hapter in the Peach State of Georgia!
CATEGORIES:Chapter Anniversary,  Open Events
URL;VALUE=URI:https://dstsouthernregion.com/mc-events/hall-county-alumnae-c
 hapter-anniversary/?mc_id=4349
METHOD:PUBLISH
END:VEVENT
END:VCALENDAR