BEGIN:VCALENDAR
VERSION:2.0
PRODID:spatie/icalendar-generator
DESCRIPTION:Events from Dynamic Southern Region
X-WR-CALDESC:Events from Dynamic Southern Region
REFRESH-INTERVAL;VALUE=DURATION:PT1440M
X-PUBLISHED-TTL:PT1440M
BEGIN:VTIMEZONE
TZID:America/New_York
BEGIN:STANDARD
DTSTART:20261101T020000Z
TZOFFSETFROM:-0400
TZOFFSETTO:-0500
END:STANDARD
BEGIN:DAYLIGHT
DTSTART:20270314T020000Z
TZOFFSETFROM:-0500
TZOFFSETTO:-0400
END:DAYLIGHT
END:VTIMEZONE
BEGIN:VTIMEZONE
TZID:UTC
BEGIN:STANDARD
DTSTART:20250729T212233Z
TZOFFSETFROM:+0000
TZOFFSETTO:+0000
END:STANDARD
END:VTIMEZONE
BEGIN:VEVENT
UID:4257-19
DTSTAMP:20260425T212233Z
SUMMARY:Oxford Alumnae Chapter Anniversary
LOCATION:
ORGANIZER;CN=Kelli:MAILTO:kelli.sibert.dst@gmail.com
RRULE:FREQ=YEARLY;BYMONTH=04;BYDAY=08;UNTIL=20450408T000000Z
DTSTART;TZID=America/New_York;VALUE=DATE:20270408
DTEND;TZID=America/New_York;VALUE=DATE:20270409
X-ALT-DESC;FMTTYPE=TEXT/HTML:Happy Charter Day to the OXFORD ALUMNAE Chapte
 r in the Hospitality State of Mississippi!
CATEGORIES:Chapter Anniversary,  Open Events
URL;VALUE=URI:https://dstsouthernregion.com/mc-events/oxford-alumnae-chapte
 r-anniversary/?mc_id=4257
METHOD:PUBLISH
END:VEVENT
END:VCALENDAR