BEGIN:VCALENDAR
VERSION:2.0
PRODID:spatie/icalendar-generator
DESCRIPTION:Events from Dynamic Southern Region
X-WR-CALDESC:Events from Dynamic Southern Region
REFRESH-INTERVAL;VALUE=DURATION:PT1440M
X-PUBLISHED-TTL:PT1440M
BEGIN:VTIMEZONE
TZID:America/New_York
BEGIN:STANDARD
DTSTART:20261101T020000Z
TZOFFSETFROM:-0400
TZOFFSETTO:-0500
END:STANDARD
BEGIN:DAYLIGHT
DTSTART:20270314T020000Z
TZOFFSETFROM:-0500
TZOFFSETTO:-0400
END:DAYLIGHT
END:VTIMEZONE
BEGIN:VTIMEZONE
TZID:UTC
BEGIN:STANDARD
DTSTART:20250729T200428Z
TZOFFSETFROM:+0000
TZOFFSETTO:+0000
END:STANDARD
END:VTIMEZONE
BEGIN:VEVENT
UID:4235-432
DTSTAMP:20260425T200428Z
SUMMARY:Alpha Upsilon Chapter Anniversary
LOCATION:
ORGANIZER;CN=Kelli:MAILTO:kelli.sibert.dst@gmail.com
RRULE:FREQ=YEARLY;BYMONTH=04;BYDAY=07;UNTIL=20450407T000000Z
DTSTART;TZID=America/New_York;VALUE=DATE:20270407
DTEND;TZID=America/New_York;VALUE=DATE:20270408
X-ALT-DESC;FMTTYPE=TEXT/HTML:Happy Charter Day to the ALPHA UPSILON Chapter
  in the Volunteer State of Tennessee!
CATEGORIES:Chapter Anniversary,  Open Events
URL;VALUE=URI:https://dstsouthernregion.com/mc-events/alpha-upsilon-chapter
 -anniversary/?mc_id=4235
METHOD:PUBLISH
END:VEVENT
END:VCALENDAR