BEGIN:VCALENDAR
VERSION:2.0
PRODID:spatie/icalendar-generator
DESCRIPTION:Events from Dynamic Southern Region
X-WR-CALDESC:Events from Dynamic Southern Region
REFRESH-INTERVAL;VALUE=DURATION:PT1440M
X-PUBLISHED-TTL:PT1440M
BEGIN:VTIMEZONE
TZID:America/New_York
BEGIN:DAYLIGHT
DTSTART:20260308T020000Z
TZOFFSETFROM:-0500
TZOFFSETTO:-0400
END:DAYLIGHT
BEGIN:STANDARD
DTSTART:20261101T020000Z
TZOFFSETFROM:-0400
TZOFFSETTO:-0500
END:STANDARD
BEGIN:DAYLIGHT
DTSTART:20270314T020000Z
TZOFFSETFROM:-0500
TZOFFSETTO:-0400
END:DAYLIGHT
END:VTIMEZONE
BEGIN:VTIMEZONE
TZID:UTC
BEGIN:STANDARD
DTSTART:20250729T142918Z
TZOFFSETFROM:+0000
TZOFFSETTO:+0000
END:STANDARD
END:VTIMEZONE
BEGIN:VEVENT
UID:3980-357
DTSTAMP:20260425T142918Z
SUMMARY:Delta Rho Chapter Anniversary
LOCATION:
ORGANIZER;CN=Kelli:MAILTO:kelli.sibert.dst@gmail.com
RRULE:FREQ=YEARLY;BYMONTH=11;BYDAY=22;UNTIL=20351122T000000Z
DTSTART;TZID=America/New_York;VALUE=DATE:20261122
DTEND;TZID=America/New_York;VALUE=DATE:20261123
X-ALT-DESC;FMTTYPE=TEXT/HTML:Happy Charter Day to the DELTA RHO Chapter in 
 the Peach State of Georgia!
CATEGORIES:Chapter Anniversary
URL;VALUE=URI:https://dstsouthernregion.com/mc-events/delta-rho-chapter-ann
 iversary/?mc_id=3980
METHOD:PUBLISH
END:VEVENT
END:VCALENDAR