BEGIN:VCALENDAR
VERSION:2.0
PRODID:spatie/icalendar-generator
DESCRIPTION:Events from Dynamic Southern Region
X-WR-CALDESC:Events from Dynamic Southern Region
REFRESH-INTERVAL;VALUE=DURATION:PT1440M
X-PUBLISHED-TTL:PT1440M
BEGIN:VTIMEZONE
TZID:America/New_York
BEGIN:STANDARD
DTSTART:20251102T020000Z
TZOFFSETFROM:-0400
TZOFFSETTO:-0500
END:STANDARD
BEGIN:DAYLIGHT
DTSTART:20260308T020000Z
TZOFFSETFROM:-0500
TZOFFSETTO:-0400
END:DAYLIGHT
END:VTIMEZONE
BEGIN:VTIMEZONE
TZID:UTC
BEGIN:STANDARD
DTSTART:20250727T130457Z
TZOFFSETFROM:+0000
TZOFFSETTO:+0000
END:STANDARD
END:VTIMEZONE
BEGIN:VEVENT
UID:3198-330
DTSTAMP:20260423T130457Z
SUMMARY:Covington Area Alumnae Chapter Anniversary
LOCATION:
ORGANIZER;CN=Kelli:MAILTO:kelli.sibert.dst@gmail.com
RRULE:FREQ=YEARLY;BYMONTH=11;BYDAY=30;UNTIL=20360412T000000Z
DTSTART;TZID=America/New_York;VALUE=DATE:20260412
DTEND;TZID=America/New_York;VALUE=DATE:20260413
X-ALT-DESC;FMTTYPE=TEXT/HTML:<p>Happy Charter Day to the COVINGTON AREA ALU
 MNAE Chapter in the Peach State of Georgia!</p>\n
CATEGORIES:Chapter Anniversary,  Open Events
URL;VALUE=URI:https://dstsouthernregion.com/mc-events/covington-area-alumna
 e-chapter-anniversary/?mc_id=3198
METHOD:PUBLISH
END:VEVENT
END:VCALENDAR