BEGIN:VCALENDAR
VERSION:2.0
PRODID:spatie/icalendar-generator
DESCRIPTION:Events from Dynamic Southern Region
X-WR-CALDESC:Events from Dynamic Southern Region
REFRESH-INTERVAL;VALUE=DURATION:PT1440M
X-PUBLISHED-TTL:PT1440M
BEGIN:VTIMEZONE
TZID:America/New_York
BEGIN:STANDARD
DTSTART:20251102T020000Z
TZOFFSETFROM:-0400
TZOFFSETTO:-0500
END:STANDARD
BEGIN:DAYLIGHT
DTSTART:20260308T020000Z
TZOFFSETFROM:-0500
TZOFFSETTO:-0400
END:DAYLIGHT
END:VTIMEZONE
BEGIN:VTIMEZONE
TZID:UTC
BEGIN:STANDARD
DTSTART:20250727T130801Z
TZOFFSETFROM:+0000
TZOFFSETTO:+0000
END:STANDARD
END:VTIMEZONE
BEGIN:VEVENT
UID:3139-446
DTSTAMP:20260423T130801Z
SUMMARY:Word Up Wednesdays
LOCATION:
ORGANIZER;CN=Kelli:MAILTO:kelli.sibert.dst@gmail.com
RRULE:FREQ=WEEKLY;UNTIL=20260624T000000Z
DTSTART;TZID=America/New_York:20260429T063000
DTEND;TZID=America/New_York:20260429T070000
X-ALT-DESC;FMTTYPE=TEXT/HTML:Morning scripture and prayer with the Southern
  Region's Chaplains Council. Submit your prayer requests in advance. This 
 event will be streamed via the Southern Region's Facebook Page: https://ww
 w.facebook.com/southernDST1913.
CATEGORIES:Chapter Anniversary
URL;VALUE=URI:https://dstsouthernregion.com/mc-events/word-up-wednesdays/?m
 c_id=3139
METHOD:PUBLISH
END:VEVENT
END:VCALENDAR