BEGIN:VCALENDAR
VERSION:2.0
PRODID:spatie/icalendar-generator
DESCRIPTION:Events from Dynamic Southern Region
X-WR-CALDESC:Events from Dynamic Southern Region
REFRESH-INTERVAL;VALUE=DURATION:PT1440M
X-PUBLISHED-TTL:PT1440M
BEGIN:VTIMEZONE
TZID:America/New_York
BEGIN:STANDARD
DTSTART:20261101T020000Z
TZOFFSETFROM:-0400
TZOFFSETTO:-0500
END:STANDARD
BEGIN:DAYLIGHT
DTSTART:20270314T020000Z
TZOFFSETFROM:-0500
TZOFFSETTO:-0400
END:DAYLIGHT
END:VTIMEZONE
BEGIN:VTIMEZONE
TZID:UTC
BEGIN:STANDARD
DTSTART:20250729T142917Z
TZOFFSETFROM:+0000
TZOFFSETTO:+0000
END:STANDARD
END:VTIMEZONE
BEGIN:VEVENT
UID:1960-101
DTSTAMP:20260425T142917Z
SUMMARY:Yazoo City Alumnae Chapter Anniversary
LOCATION:
ORGANIZER;CN=Kelli:MAILTO:kelli.sibert.dst@gmail.com
RRULE:FREQ=YEARLY;BYMONTH=11;BYDAY=30;UNTIL=20360202T000000Z
DTSTART;TZID=America/New_York;VALUE=DATE:20270202
DTEND;TZID=America/New_York;VALUE=DATE:20270203
X-ALT-DESC;FMTTYPE=TEXT/HTML:<p>Happy Charter Day to the YAZOO CITY ALUMNAE
  Chapter in the Hospitality State of Mississippi!</p>\n
CATEGORIES:Chapter Anniversary,  Open Events
URL;VALUE=URI:https://dstsouthernregion.com/mc-events/yazoo-city-alumnae-ch
 apter-anniversary/?mc_id=1960
METHOD:PUBLISH
END:VEVENT
END:VCALENDAR