BEGIN:VCALENDAR
VERSION:2.0
PRODID:spatie/icalendar-generator
DESCRIPTION:Events from Dynamic Southern Region
X-WR-CALDESC:Events from Dynamic Southern Region
REFRESH-INTERVAL;VALUE=DURATION:PT1440M
X-PUBLISHED-TTL:PT1440M
BEGIN:VTIMEZONE
TZID:America/New_York
BEGIN:STANDARD
DTSTART:20231105T020000Z
TZOFFSETFROM:-0400
TZOFFSETTO:-0500
END:STANDARD
BEGIN:DAYLIGHT
DTSTART:20240310T020000Z
TZOFFSETFROM:-0500
TZOFFSETTO:-0400
END:DAYLIGHT
BEGIN:STANDARD
DTSTART:20241103T020000Z
TZOFFSETFROM:-0400
TZOFFSETTO:-0500
END:STANDARD
END:VTIMEZONE
BEGIN:VTIMEZONE
TZID:UTC
BEGIN:STANDARD
DTSTART:20250729T160254Z
TZOFFSETFROM:+0000
TZOFFSETTO:+0000
END:STANDARD
END:VTIMEZONE
BEGIN:VEVENT
UID:81-81
DTSTAMP:20260425T160254Z
SUMMARY:Theta Sigma Chapter Anniversary
LOCATION:
ORGANIZER;CN=Sheryl Walker:MAILTO:wlkrs.rgr17@gmail.com
RRULE:FREQ=YEARLY;BYMONTH=05;BYDAY=11;UNTIL=20350511T000000Z
DTSTART;TZID=America/New_York;VALUE=DATE:20240511
DTEND;TZID=America/New_York;VALUE=DATE:20240512
X-ALT-DESC;FMTTYPE=TEXT/HTML:Happy Charter Day to the THETA SIGMA Chapter i
 n the Peach State of Georgia!
CATEGORIES:Chapter Anniversary,  Open Events
URL;VALUE=URI:https://dstsouthernregion.com/mc-events/theta-sigma-chapter-a
 nniversary/?mc_id=81
METHOD:PUBLISH
END:VEVENT
END:VCALENDAR