BEGIN:VCALENDAR
VERSION:2.0
PRODID:spatie/icalendar-generator
DESCRIPTION:Events from Dynamic Southern Region
X-WR-CALDESC:Events from Dynamic Southern Region
REFRESH-INTERVAL;VALUE=DURATION:PT1440M
X-PUBLISHED-TTL:PT1440M
BEGIN:VTIMEZONE
TZID:America/New_York
BEGIN:STANDARD
DTSTART:20231105T020000Z
TZOFFSETFROM:-0400
TZOFFSETTO:-0500
END:STANDARD
BEGIN:DAYLIGHT
DTSTART:20240310T020000Z
TZOFFSETFROM:-0500
TZOFFSETTO:-0400
END:DAYLIGHT
BEGIN:STANDARD
DTSTART:20241103T020000Z
TZOFFSETFROM:-0400
TZOFFSETTO:-0500
END:STANDARD
END:VTIMEZONE
BEGIN:VTIMEZONE
TZID:UTC
BEGIN:STANDARD
DTSTART:20250729T123951Z
TZOFFSETFROM:+0000
TZOFFSETTO:+0000
END:STANDARD
END:VTIMEZONE
BEGIN:VEVENT
UID:754-9
DTSTAMP:20260425T123951Z
SUMMARY:Regional Leadership Team Monthly Meeting
LOCATION:
ORGANIZER;CN=Kelli:MAILTO:kelli.sibert.dst@gmail.com
RRULE:FREQ=MONTHLY;BYDAY=5TU;UNTIL=20260624T000000Z
DTSTART;TZID=America/New_York:20240514T200000
DTEND;TZID=America/New_York:20240514T211500
X-ALT-DESC;FMTTYPE=TEXT/HTML:Monthly meeting with the Regional Director and
  Regional Representative for the Regional Leadership Team. Link to join is
  sent directly to all Regional Leadership Team Chairs and Co-Chairs.
CATEGORIES:Regional Leadership Team
URL;VALUE=URI:https://dstsouthernregion.com/mc-events/regional-leadership-t
 eam-monthly-meeting/?mc_id=754
METHOD:PUBLISH
END:VEVENT
END:VCALENDAR