BEGIN:VCALENDAR
VERSION:2.0
PRODID:spatie/icalendar-generator
DESCRIPTION:Events from Dynamic Southern Region
X-WR-CALDESC:Events from Dynamic Southern Region
REFRESH-INTERVAL;VALUE=DURATION:PT1440M
X-PUBLISHED-TTL:PT1440M
BEGIN:VTIMEZONE
TZID:America/New_York
BEGIN:STANDARD
DTSTART:20231105T020000Z
TZOFFSETFROM:-0400
TZOFFSETTO:-0500
END:STANDARD
BEGIN:DAYLIGHT
DTSTART:20240310T020000Z
TZOFFSETFROM:-0500
TZOFFSETTO:-0400
END:DAYLIGHT
BEGIN:STANDARD
DTSTART:20241103T020000Z
TZOFFSETFROM:-0400
TZOFFSETTO:-0500
END:STANDARD
END:VTIMEZONE
BEGIN:VTIMEZONE
TZID:UTC
BEGIN:STANDARD
DTSTART:20250729T125150Z
TZOFFSETFROM:+0000
TZOFFSETTO:+0000
END:STANDARD
END:VTIMEZONE
BEGIN:VEVENT
UID:608-17
DTSTAMP:20260425T125150Z
SUMMARY:Southern Region Exec Check
LOCATION:
ORGANIZER;CN=Kelli:MAILTO:kelli.sibert.dst@gmail.com
RRULE:FREQ=MONTHLY;BYDAY=5TU;UNTIL=20260624T000000Z
DTSTART;TZID=America/New_York:20240521T200000
DTEND;TZID=America/New_York:20240521T211500
X-ALT-DESC;FMTTYPE=TEXT/HTML:Monthly meeting with the Regional Director and
  Regional Representative for chapter Executive Committee members. Link to 
 join is sent directly to all chapter Executive Committee Officers.
CATEGORIES:Chapter Executive Committee
URL;VALUE=URI:https://dstsouthernregion.com/mc-events/southern-region-exec-
 check/?mc_id=608
METHOD:PUBLISH
END:VEVENT
END:VCALENDAR