BEGIN:VCALENDAR
VERSION:2.0
PRODID:spatie/icalendar-generator
DESCRIPTION:Events from Dynamic Southern Region
X-WR-CALDESC:Events from Dynamic Southern Region
REFRESH-INTERVAL;VALUE=DURATION:PT1440M
X-PUBLISHED-TTL:PT1440M
BEGIN:VTIMEZONE
TZID:America/New_York
BEGIN:DAYLIGHT
DTSTART:20260308T020000Z
TZOFFSETFROM:-0500
TZOFFSETTO:-0400
END:DAYLIGHT
BEGIN:STANDARD
DTSTART:20261101T020000Z
TZOFFSETFROM:-0400
TZOFFSETTO:-0500
END:STANDARD
BEGIN:DAYLIGHT
DTSTART:20270314T020000Z
TZOFFSETFROM:-0500
TZOFFSETTO:-0400
END:DAYLIGHT
END:VTIMEZONE
BEGIN:VTIMEZONE
TZID:UTC
BEGIN:STANDARD
DTSTART:20250729T150056Z
TZOFFSETFROM:+0000
TZOFFSETTO:+0000
END:STANDARD
END:VTIMEZONE
BEGIN:VEVENT
UID:5723-185
DTSTAMP:20260425T150056Z
SUMMARY:Dyersburg Alumnae Chapter Anniversary
LOCATION:
ORGANIZER;CN=Tarsheika West:MAILTO:shanny8389@gmail.com
RRULE:FREQ=YEARLY;BYMONTH=11;BYDAY=16;UNTIL=20351116T000000Z
DTSTART;TZID=America/New_York;VALUE=DATE:20261116
DTEND;TZID=America/New_York;VALUE=DATE:20261117
X-ALT-DESC;FMTTYPE=TEXT/HTML:Happy Charter Day to the DYERSBURG ALUMNAE Cha
 pter in the Volunteer State of Tennessee!
CATEGORIES:Chapter Anniversary,  Open Events
URL;VALUE=URI:https://dstsouthernregion.com/mc-events/dyersburg-alumnae-cha
 pter-anniversary/?mc_id=5723
METHOD:PUBLISH
END:VEVENT
END:VCALENDAR