BEGIN:VCALENDAR
VERSION:2.0
PRODID:spatie/icalendar-generator
DESCRIPTION:Events from Dynamic Southern Region
X-WR-CALDESC:Events from Dynamic Southern Region
REFRESH-INTERVAL;VALUE=DURATION:PT1440M
X-PUBLISHED-TTL:PT1440M
BEGIN:VTIMEZONE
TZID:America/New_York
BEGIN:DAYLIGHT
DTSTART:20260308T020000Z
TZOFFSETFROM:-0500
TZOFFSETTO:-0400
END:DAYLIGHT
BEGIN:STANDARD
DTSTART:20261101T020000Z
TZOFFSETFROM:-0400
TZOFFSETTO:-0500
END:STANDARD
BEGIN:DAYLIGHT
DTSTART:20270314T020000Z
TZOFFSETFROM:-0500
TZOFFSETTO:-0400
END:DAYLIGHT
END:VTIMEZONE
BEGIN:VTIMEZONE
TZID:UTC
BEGIN:STANDARD
DTSTART:20250729T164459Z
TZOFFSETFROM:+0000
TZOFFSETTO:+0000
END:STANDARD
END:VTIMEZONE
BEGIN:VEVENT
UID:5711-269
DTSTAMP:20260425T164459Z
SUMMARY:Lambda Sigma Chapter Anniversary
LOCATION:
ORGANIZER;CN=Tarsheika West:MAILTO:shanny8389@gmail.com
RRULE:FREQ=YEARLY;BYMONTH=11;BYDAY=14;UNTIL=20351114T000000Z
DTSTART;TZID=America/New_York;VALUE=DATE:20261114
DTEND;TZID=America/New_York;VALUE=DATE:20261115
X-ALT-DESC;FMTTYPE=TEXT/HTML:Happy Charter Day to the LAMBDA SIGMA Chapter 
 in the Hospitality State of Mississippi!
CATEGORIES:Chapter Anniversary,  Open Events
URL;VALUE=URI:https://dstsouthernregion.com/mc-events/lambda-sigma-chapter-
 anniversary/?mc_id=5711
METHOD:PUBLISH
END:VEVENT
END:VCALENDAR