BEGIN:VCALENDAR
VERSION:2.0
PRODID:spatie/icalendar-generator
DESCRIPTION:Events from Dynamic Southern Region
X-WR-CALDESC:Events from Dynamic Southern Region
REFRESH-INTERVAL;VALUE=DURATION:PT1440M
X-PUBLISHED-TTL:PT1440M
BEGIN:VTIMEZONE
TZID:America/New_York
BEGIN:STANDARD
DTSTART:20261101T020000Z
TZOFFSETFROM:-0400
TZOFFSETTO:-0500
END:STANDARD
BEGIN:DAYLIGHT
DTSTART:20270314T020000Z
TZOFFSETFROM:-0500
TZOFFSETTO:-0400
END:DAYLIGHT
END:VTIMEZONE
BEGIN:VTIMEZONE
TZID:UTC
BEGIN:STANDARD
DTSTART:20250730T023142Z
TZOFFSETFROM:+0000
TZOFFSETTO:+0000
END:STANDARD
END:VTIMEZONE
BEGIN:VEVENT
UID:5568-107
DTSTAMP:20260426T023142Z
SUMMARY:Fort Myers Alumnae Chapter Anniversary
LOCATION:
ORGANIZER;CN=Kelli:MAILTO:kelli.sibert.dst@gmail.com
RRULE:FREQ=YEARLY;BYMONTH=12;BYDAY=18;UNTIL=20351218T000000Z
DTSTART;TZID=America/New_York;VALUE=DATE:20261218
DTEND;TZID=America/New_York;VALUE=DATE:20261219
X-ALT-DESC;FMTTYPE=TEXT/HTML:Happy Charter Day to the FORT MYERS ALUMNAE Ch
 apter in the Sunshine State of Florida!
CATEGORIES:Chapter Anniversary,  Open Events
URL;VALUE=URI:https://dstsouthernregion.com/mc-events/fort-myers-alumnae-ch
 apter-anniversary/?mc_id=5568
METHOD:PUBLISH
END:VEVENT
END:VCALENDAR