BEGIN:VCALENDAR
VERSION:2.0
PRODID:spatie/icalendar-generator
DESCRIPTION:Events from Dynamic Southern Region
X-WR-CALDESC:Events from Dynamic Southern Region
REFRESH-INTERVAL;VALUE=DURATION:PT1440M
X-PUBLISHED-TTL:PT1440M
BEGIN:VTIMEZONE
TZID:America/New_York
BEGIN:DAYLIGHT
DTSTART:20240310T020000Z
TZOFFSETFROM:-0500
TZOFFSETTO:-0400
END:DAYLIGHT
BEGIN:STANDARD
DTSTART:20241103T020000Z
TZOFFSETFROM:-0400
TZOFFSETTO:-0500
END:STANDARD
BEGIN:DAYLIGHT
DTSTART:20250309T020000Z
TZOFFSETFROM:-0500
TZOFFSETTO:-0400
END:DAYLIGHT
END:VTIMEZONE
BEGIN:VTIMEZONE
TZID:UTC
BEGIN:STANDARD
DTSTART:20250730T023021Z
TZOFFSETFROM:+0000
TZOFFSETTO:+0000
END:STANDARD
END:VTIMEZONE
BEGIN:VEVENT
UID:5105-209
DTSTAMP:20260426T023021Z
SUMMARY:Tuskegee Alumnae Chapter Anniversary
LOCATION:
ORGANIZER;CN=Kelli:MAILTO:kelli.sibert.dst@gmail.com
RRULE:FREQ=YEARLY;BYMONTH=12;BYDAY=05;UNTIL=20351205T000000Z
DTSTART;TZID=America/New_York;VALUE=DATE:20241205
DTEND;TZID=America/New_York;VALUE=DATE:20241206
X-ALT-DESC;FMTTYPE=TEXT/HTML:Happy Charter Day to the TUSKEGEE ALUMNAE Chap
 ter in Alabama the Beautiful!
CATEGORIES:Chapter Anniversary
URL;VALUE=URI:https://dstsouthernregion.com/mc-events/tuskegee-alumnae-chap
 ter-anniversary/?mc_id=5105
METHOD:PUBLISH
END:VEVENT
END:VCALENDAR