BEGIN:VCALENDAR
VERSION:2.0
PRODID:spatie/icalendar-generator
DESCRIPTION:Events from Dynamic Southern Region
X-WR-CALDESC:Events from Dynamic Southern Region
REFRESH-INTERVAL;VALUE=DURATION:PT1440M
X-PUBLISHED-TTL:PT1440M
BEGIN:VTIMEZONE
TZID:America/New_York
BEGIN:STANDARD
DTSTART:20221106T020000Z
TZOFFSETFROM:-0400
TZOFFSETTO:-0500
END:STANDARD
BEGIN:DAYLIGHT
DTSTART:20230312T020000Z
TZOFFSETFROM:-0500
TZOFFSETTO:-0400
END:DAYLIGHT
BEGIN:STANDARD
DTSTART:20231105T020000Z
TZOFFSETFROM:-0400
TZOFFSETTO:-0500
END:STANDARD
END:VTIMEZONE
BEGIN:VTIMEZONE
TZID:UTC
BEGIN:STANDARD
DTSTART:20250729T203820Z
TZOFFSETFROM:+0000
TZOFFSETTO:+0000
END:STANDARD
END:VTIMEZONE
BEGIN:VEVENT
UID:5045-150
DTSTAMP:20260425T203820Z
SUMMARY:Kappa Iota Chapter Anniversary
LOCATION:
ORGANIZER;CN=Sheryl Walker:MAILTO:wlkrs.rgr17@gmail.com
RRULE:FREQ=YEARLY;BYMONTH=05;BYDAY=31;UNTIL=20350531T000000Z
DTSTART;TZID=America/New_York;VALUE=DATE:20230531
DTEND;TZID=America/New_York;VALUE=DATE:20230601
X-ALT-DESC;FMTTYPE=TEXT/HTML:Happy Charter Day to the KAPPA IOTA Chapter in
  the Sunshine State of Florida!
CATEGORIES:Chapter Anniversary,  Open Events
URL;VALUE=URI:https://dstsouthernregion.com/mc-events/kappa-iota-chapter-an
 niversary/?mc_id=5045
METHOD:PUBLISH
END:VEVENT
END:VCALENDAR