BEGIN:VCALENDAR
VERSION:2.0
PRODID:spatie/icalendar-generator
DESCRIPTION:Events from Dynamic Southern Region
X-WR-CALDESC:Events from Dynamic Southern Region
REFRESH-INTERVAL;VALUE=DURATION:PT1440M
X-PUBLISHED-TTL:PT1440M
BEGIN:VTIMEZONE
TZID:America/New_York
BEGIN:STANDARD
DTSTART:20221106T020000Z
TZOFFSETFROM:-0400
TZOFFSETTO:-0500
END:STANDARD
BEGIN:DAYLIGHT
DTSTART:20230312T020000Z
TZOFFSETFROM:-0500
TZOFFSETTO:-0400
END:DAYLIGHT
END:VTIMEZONE
BEGIN:VTIMEZONE
TZID:UTC
BEGIN:STANDARD
DTSTART:20250729T110234Z
TZOFFSETFROM:+0000
TZOFFSETTO:+0000
END:STANDARD
END:VTIMEZONE
BEGIN:VEVENT
UID:4729-20
DTSTAMP:20260425T110234Z
SUMMARY:Waycross Alumnae Chapter Anniversary
LOCATION:
ORGANIZER;CN=Kelli:MAILTO:kelli.sibert.dst@gmail.com
RRULE:FREQ=YEARLY;BYMONTH=04;BYDAY=27;UNTIL=20350427T000000Z
DTSTART;TZID=America/New_York;VALUE=DATE:20230427
DTEND;TZID=America/New_York;VALUE=DATE:20230428
X-ALT-DESC;FMTTYPE=TEXT/HTML:Happy Charter Day to the WAYCROSS ALUMNAE Chap
 ter in the Peach State of Georgia!
CATEGORIES:Chapter Anniversary
URL;VALUE=URI:https://dstsouthernregion.com/mc-events/waycross-alumnae-chap
 ter-anniversary/?mc_id=4729
METHOD:PUBLISH
END:VEVENT
END:VCALENDAR