BEGIN:VCALENDAR
VERSION:2.0
PRODID:spatie/icalendar-generator
DESCRIPTION:Events from Dynamic Southern Region
X-WR-CALDESC:Events from Dynamic Southern Region
REFRESH-INTERVAL;VALUE=DURATION:PT1440M
X-PUBLISHED-TTL:PT1440M
BEGIN:VTIMEZONE
TZID:America/New_York
BEGIN:STANDARD
DTSTART:20231105T020000Z
TZOFFSETFROM:-0400
TZOFFSETTO:-0500
END:STANDARD
BEGIN:DAYLIGHT
DTSTART:20240310T020000Z
TZOFFSETFROM:-0500
TZOFFSETTO:-0400
END:DAYLIGHT
END:VTIMEZONE
BEGIN:VTIMEZONE
TZID:UTC
BEGIN:STANDARD
DTSTART:20250729T112259Z
TZOFFSETFROM:+0000
TZOFFSETTO:+0000
END:STANDARD
END:VTIMEZONE
BEGIN:VEVENT
UID:43-43
DTSTAMP:20260425T112259Z
SUMMARY:Greater Columbia County Alumnae Chapter Anniversary
LOCATION:
ORGANIZER;CN=Kelli:MAILTO:kelli.sibert.dst@gmail.com
RRULE:FREQ=YEARLY;BYMONTH=11;BYDAY=30;UNTIL=20360413T000000Z
DTSTART;TZID=America/New_York;VALUE=DATE:20240413
DTEND;TZID=America/New_York;VALUE=DATE:20240414
X-ALT-DESC;FMTTYPE=TEXT/HTML:<p>Happy Charter Day to the GREATER COLUMBIA C
 OUNTY ALUMNAE Chapter in the Peach State of Georgia!</p>\n
CATEGORIES:Chapter Anniversary,  Open Events
URL;VALUE=URI:https://dstsouthernregion.com/mc-events/greater-columbia-coun
 ty-alumnae-chapter-anniversary/?mc_id=43
METHOD:PUBLISH
END:VEVENT
END:VCALENDAR