BEGIN:VCALENDAR
VERSION:2.0
PRODID:spatie/icalendar-generator
DESCRIPTION:Events from Dynamic Southern Region
X-WR-CALDESC:Events from Dynamic Southern Region
REFRESH-INTERVAL;VALUE=DURATION:PT1440M
X-PUBLISHED-TTL:PT1440M
BEGIN:VTIMEZONE
TZID:America/New_York
BEGIN:STANDARD
DTSTART:20251102T020000Z
TZOFFSETFROM:-0400
TZOFFSETTO:-0500
END:STANDARD
BEGIN:DAYLIGHT
DTSTART:20260308T020000Z
TZOFFSETFROM:-0500
TZOFFSETTO:-0400
END:DAYLIGHT
END:VTIMEZONE
BEGIN:VTIMEZONE
TZID:UTC
BEGIN:STANDARD
DTSTART:20250729T173313Z
TZOFFSETFROM:+0000
TZOFFSETTO:+0000
END:STANDARD
END:VTIMEZONE
BEGIN:VEVENT
UID:4292-105
DTSTAMP:20260425T173313Z
SUMMARY:Lake Oconee Area Alumnae Chapter Anniversary
LOCATION:
ORGANIZER;CN=Kelli:MAILTO:kelli.sibert.dst@gmail.com
RRULE:FREQ=YEARLY;BYMONTH=04;BYDAY=23;UNTIL=20450423T000000Z
DTSTART;TZID=America/New_York;VALUE=DATE:20260423
DTEND;TZID=America/New_York;VALUE=DATE:20260424
X-ALT-DESC;FMTTYPE=TEXT/HTML:Happy Charter Day to the LAKE OCONEE AREA ALUM
 NAE Chapter in the Peach State of Georgia!
CATEGORIES:Chapter Anniversary,  Open Events
URL;VALUE=URI:https://dstsouthernregion.com/mc-events/lake-oconee-area-alum
 nae-chapter-anniversary/?mc_id=4292
METHOD:PUBLISH
END:VEVENT
END:VCALENDAR