BEGIN:VCALENDAR
VERSION:2.0
PRODID:spatie/icalendar-generator
DESCRIPTION:Events from Dynamic Southern Region
X-WR-CALDESC:Events from Dynamic Southern Region
REFRESH-INTERVAL;VALUE=DURATION:PT1440M
X-PUBLISHED-TTL:PT1440M
BEGIN:VTIMEZONE
TZID:America/New_York
BEGIN:STANDARD
DTSTART:20221106T020000Z
TZOFFSETFROM:-0400
TZOFFSETTO:-0500
END:STANDARD
BEGIN:DAYLIGHT
DTSTART:20230312T020000Z
TZOFFSETFROM:-0500
TZOFFSETTO:-0400
END:DAYLIGHT
BEGIN:STANDARD
DTSTART:20231105T020000Z
TZOFFSETFROM:-0400
TZOFFSETTO:-0500
END:STANDARD
END:VTIMEZONE
BEGIN:VTIMEZONE
TZID:UTC
BEGIN:STANDARD
DTSTART:20250730T013501Z
TZOFFSETFROM:+0000
TZOFFSETTO:+0000
END:STANDARD
END:VTIMEZONE
BEGIN:VEVENT
UID:4276-116
DTSTAMP:20260426T013501Z
SUMMARY:Montgomery (AL) Alumnae Chapter Anniversary
LOCATION:
ORGANIZER;CN=Tarsheika West:MAILTO:shanny8389@gmail.com
RRULE:FREQ=YEARLY;BYMONTH=07;BYDAY=11;UNTIL=20350711T000000Z
DTSTART;TZID=America/New_York;VALUE=DATE:20230711
DTEND;TZID=America/New_York;VALUE=DATE:20230712
X-ALT-DESC;FMTTYPE=TEXT/HTML:Happy Charter Day to the MONTGOMERY (AL) ALUMN
 AE Chapter in Alabama the Beautiful!
CATEGORIES:Chapter Anniversary,  Open Events
URL;VALUE=URI:https://dstsouthernregion.com/mc-events/montgomery-al-alumnae
 -chapter-anniversary/?mc_id=4276
METHOD:PUBLISH
END:VEVENT
END:VCALENDAR