BEGIN:VCALENDAR
VERSION:2.0
PRODID:spatie/icalendar-generator
DESCRIPTION:Events from Dynamic Southern Region
X-WR-CALDESC:Events from Dynamic Southern Region
REFRESH-INTERVAL;VALUE=DURATION:PT1440M
X-PUBLISHED-TTL:PT1440M
BEGIN:VTIMEZONE
TZID:America/New_York
BEGIN:STANDARD
DTSTART:20151101T020000Z
TZOFFSETFROM:-0400
TZOFFSETTO:-0500
END:STANDARD
BEGIN:DAYLIGHT
DTSTART:20160313T020000Z
TZOFFSETFROM:-0500
TZOFFSETTO:-0400
END:DAYLIGHT
END:VTIMEZONE
BEGIN:VTIMEZONE
TZID:UTC
BEGIN:STANDARD
DTSTART:20250729T203918Z
TZOFFSETFROM:+0000
TZOFFSETTO:+0000
END:STANDARD
END:VTIMEZONE
BEGIN:VEVENT
UID:3626-451
DTSTAMP:20260425T203918Z
SUMMARY:Founders Day
LOCATION:
ORGANIZER;CN=Kelli:MAILTO:kelli.sibert.dst@gmail.com
RRULE:FREQ=YEARLY;BYMONTH=11;BYDAY=30;UNTIL=20350113T000000Z
DTSTART;TZID=America/New_York;VALUE=DATE:20160113
DTEND;TZID=America/New_York;VALUE=DATE:20160114
X-ALT-DESC;FMTTYPE=TEXT/HTML:Happy Founders Day to ALL our Sorors of Delta 
 Sigma Theta Sorority\, Inc.!
CATEGORIES:Open Events,  General
URL;VALUE=URI:https://dstsouthernregion.com/mc-events/founders-day/?mc_id=3
 626
METHOD:PUBLISH
END:VEVENT
END:VCALENDAR