BEGIN:VCALENDAR
VERSION:2.0
PRODID:spatie/icalendar-generator
DESCRIPTION:Events from Dynamic Southern Region
X-WR-CALDESC:Events from Dynamic Southern Region
REFRESH-INTERVAL;VALUE=DURATION:PT1440M
X-PUBLISHED-TTL:PT1440M
BEGIN:VTIMEZONE
TZID:America/New_York
BEGIN:STANDARD
DTSTART:20251102T020000Z
TZOFFSETFROM:-0400
TZOFFSETTO:-0500
END:STANDARD
BEGIN:DAYLIGHT
DTSTART:20260308T020000Z
TZOFFSETFROM:-0500
TZOFFSETTO:-0400
END:DAYLIGHT
END:VTIMEZONE
BEGIN:VTIMEZONE
TZID:UTC
BEGIN:STANDARD
DTSTART:20250729T153736Z
TZOFFSETFROM:+0000
TZOFFSETTO:+0000
END:STANDARD
END:VTIMEZONE
BEGIN:VEVENT
UID:3546-31
DTSTAMP:20260425T153736Z
SUMMARY:Clay County (MS) Alumnae Chapter Anniversary
LOCATION:
ORGANIZER;CN=Kelli:MAILTO:kelli.sibert.dst@gmail.com
RRULE:FREQ=YEARLY;BYMONTH=11;BYDAY=30;UNTIL=20640426T000000Z
DTSTART;TZID=America/New_York;VALUE=DATE:20260426
DTEND;TZID=America/New_York;VALUE=DATE:20260427
X-ALT-DESC;FMTTYPE=TEXT/HTML:<p>Happy Charter Day to the CLAY COUNTY (MS) A
 LUMNAE Chapter in the Hospitality State of Mississippi!</p>\n
CATEGORIES:Chapter Anniversary,  Open Events
URL;VALUE=URI:https://dstsouthernregion.com/mc-events/clay-county-ms-alumna
 e-chapter-anniversary/?mc_id=3546
METHOD:PUBLISH
END:VEVENT
END:VCALENDAR