BEGIN:VCALENDAR
VERSION:2.0
PRODID:spatie/icalendar-generator
DESCRIPTION:Events from Dynamic Southern Region
X-WR-CALDESC:Events from Dynamic Southern Region
REFRESH-INTERVAL;VALUE=DURATION:PT1440M
X-PUBLISHED-TTL:PT1440M
BEGIN:VTIMEZONE
TZID:America/New_York
BEGIN:STANDARD
DTSTART:20231105T020000Z
TZOFFSETFROM:-0400
TZOFFSETTO:-0500
END:STANDARD
BEGIN:DAYLIGHT
DTSTART:20240310T020000Z
TZOFFSETFROM:-0500
TZOFFSETTO:-0400
END:DAYLIGHT
BEGIN:STANDARD
DTSTART:20241103T020000Z
TZOFFSETFROM:-0400
TZOFFSETTO:-0500
END:STANDARD
END:VTIMEZONE
BEGIN:VTIMEZONE
TZID:UTC
BEGIN:STANDARD
DTSTART:20250729T173305Z
TZOFFSETFROM:+0000
TZOFFSETTO:+0000
END:STANDARD
END:VTIMEZONE
BEGIN:VEVENT
UID:32-32
DTSTAMP:20260425T173305Z
SUMMARY:Pi Nu (Retired) Chapter Anniversary
LOCATION:
ORGANIZER;CN=Southern Region Tech Chair:MAILTO:technology@dstsouthernregion
 .com
RRULE:FREQ=YEARLY;BYMONTH=11;BYDAY=30;UNTIL=20360529T000000Z
DTSTART;TZID=America/New_York;VALUE=DATE:20240529
DTEND;TZID=America/New_York;VALUE=DATE:20240530
X-ALT-DESC;FMTTYPE=TEXT/HTML:<p>Happy Charter Day to the PI NU (RETIRED) Ch
 apter in the Peach State of Georgia!</p>\n
CATEGORIES:Chapter Anniversary,  Open Events
URL;VALUE=URI:https://dstsouthernregion.com/mc-events/chapter-anniversary-2
 5/?mc_id=32
METHOD:PUBLISH
END:VEVENT
END:VCALENDAR