BEGIN:VCALENDAR
VERSION:2.0
PRODID:spatie/icalendar-generator
DESCRIPTION:Events from Dynamic Southern Region
X-WR-CALDESC:Events from Dynamic Southern Region
REFRESH-INTERVAL;VALUE=DURATION:PT1440M
X-PUBLISHED-TTL:PT1440M
BEGIN:VTIMEZONE
TZID:America/New_York
BEGIN:STANDARD
DTSTART:20231105T020000Z
TZOFFSETFROM:-0400
TZOFFSETTO:-0500
END:STANDARD
BEGIN:DAYLIGHT
DTSTART:20240310T020000Z
TZOFFSETFROM:-0500
TZOFFSETTO:-0400
END:DAYLIGHT
END:VTIMEZONE
BEGIN:VTIMEZONE
TZID:UTC
BEGIN:STANDARD
DTSTART:20250729T130908Z
TZOFFSETFROM:+0000
TZOFFSETTO:+0000
END:STANDARD
END:VTIMEZONE
BEGIN:VEVENT
UID:30-30
DTSTAMP:20260425T130908Z
SUMMARY:Clearwater Alumnae Chapter Anniversary
LOCATION:
ORGANIZER;CN=Sheryl Walker:MAILTO:wlkrs.rgr17@gmail.com
RRULE:FREQ=YEARLY;BYMONTH=04;BYDAY=02;UNTIL=20350402T000000Z
DTSTART;TZID=America/New_York;VALUE=DATE:20240402
DTEND;TZID=America/New_York;VALUE=DATE:20240403
X-ALT-DESC;FMTTYPE=TEXT/HTML:Happy Charter Day to the CLEARWATER ALUMNAE Ch
 apter in the Sunshine State of Florida!
CATEGORIES:Chapter Anniversary,  Open Events
URL;VALUE=URI:https://dstsouthernregion.com/mc-events/clearwater-alumnae-ch
 apter-anniversary/?mc_id=30
METHOD:PUBLISH
END:VEVENT
END:VCALENDAR