BEGIN:VCALENDAR
VERSION:2.0
PRODID:spatie/icalendar-generator
DESCRIPTION:Events from Dynamic Southern Region
X-WR-CALDESC:Events from Dynamic Southern Region
REFRESH-INTERVAL;VALUE=DURATION:PT1440M
X-PUBLISHED-TTL:PT1440M
BEGIN:VTIMEZONE
TZID:America/New_York
BEGIN:STANDARD
DTSTART:20231105T020000Z
TZOFFSETFROM:-0400
TZOFFSETTO:-0500
END:STANDARD
BEGIN:DAYLIGHT
DTSTART:20240310T020000Z
TZOFFSETFROM:-0500
TZOFFSETTO:-0400
END:DAYLIGHT
END:VTIMEZONE
BEGIN:VTIMEZONE
TZID:UTC
BEGIN:STANDARD
DTSTART:20250728T195008Z
TZOFFSETFROM:+0000
TZOFFSETTO:+0000
END:STANDARD
END:VTIMEZONE
BEGIN:VEVENT
UID:217-204
DTSTAMP:20260424T195008Z
SUMMARY:Moss Point Alumnae Chapter Anniversary
LOCATION:
ORGANIZER;CN=Kelli:MAILTO:kelli.sibert.dst@gmail.com
RRULE:FREQ=YEARLY;BYMONTH=04;BYDAY=28;UNTIL=20350428T000000Z
DTSTART;TZID=America/New_York;VALUE=DATE:20240428
DTEND;TZID=America/New_York;VALUE=DATE:20240429
X-ALT-DESC;FMTTYPE=TEXT/HTML:Happy Charter Day to the MOSS POINT ALUMNAE Ch
 apter in the Hospitality State of Mississippi!
CATEGORIES:Chapter Anniversary
URL;VALUE=URI:https://dstsouthernregion.com/mc-events/moss-point-alumnae-ch
 apter-anniversary/?mc_id=217
METHOD:PUBLISH
END:VEVENT
END:VCALENDAR