BEGIN:VCALENDAR
VERSION:2.0
PRODID:spatie/icalendar-generator
DESCRIPTION:Events from Dynamic Southern Region
X-WR-CALDESC:Events from Dynamic Southern Region
REFRESH-INTERVAL;VALUE=DURATION:PT1440M
X-PUBLISHED-TTL:PT1440M
BEGIN:VTIMEZONE
TZID:America/New_York
BEGIN:STANDARD
DTSTART:20221106T020000Z
TZOFFSETFROM:-0400
TZOFFSETTO:-0500
END:STANDARD
BEGIN:DAYLIGHT
DTSTART:20230312T020000Z
TZOFFSETFROM:-0500
TZOFFSETTO:-0400
END:DAYLIGHT
BEGIN:STANDARD
DTSTART:20231105T020000Z
TZOFFSETFROM:-0400
TZOFFSETTO:-0500
END:STANDARD
END:VTIMEZONE
BEGIN:VTIMEZONE
TZID:UTC
BEGIN:STANDARD
DTSTART:20250730T041333Z
TZOFFSETFROM:+0000
TZOFFSETTO:+0000
END:STANDARD
END:VTIMEZONE
BEGIN:VEVENT
UID:206-193
DTSTAMP:20260426T041333Z
SUMMARY:56th National Convention
LOCATION:
ORGANIZER;CN=Southern Region Tech Chair:MAILTO:technology@dstsouthernregion
 .com
DTSTART;TZID=America/New_York:20230718T080000
DTEND;TZID=America/New_York:20230724T170000
X-ALT-DESC;FMTTYPE=TEXT/HTML:This event is for registered members of Delta 
 Sigma Theta's 56th National Convention.
CATEGORIES:National Events for Members
URL;VALUE=URI:https://dstsouthernregion.com/mc-events/56th-national-convent
 ion/
METHOD:PUBLISH
END:VEVENT
END:VCALENDAR