BEGIN:VCALENDAR
VERSION:2.0
PRODID:spatie/icalendar-generator
DESCRIPTION:Events from Dynamic Southern Region
X-WR-CALDESC:Events from Dynamic Southern Region
REFRESH-INTERVAL;VALUE=DURATION:PT1440M
X-PUBLISHED-TTL:PT1440M
BEGIN:VTIMEZONE
TZID:America/New_York
BEGIN:STANDARD
DTSTART:20231105T020000Z
TZOFFSETFROM:-0400
TZOFFSETTO:-0500
END:STANDARD
BEGIN:DAYLIGHT
DTSTART:20240310T020000Z
TZOFFSETFROM:-0500
TZOFFSETTO:-0400
END:DAYLIGHT
BEGIN:STANDARD
DTSTART:20241103T020000Z
TZOFFSETFROM:-0400
TZOFFSETTO:-0500
END:STANDARD
END:VTIMEZONE
BEGIN:VTIMEZONE
TZID:UTC
BEGIN:STANDARD
DTSTART:20250729T110133Z
TZOFFSETFROM:+0000
TZOFFSETTO:+0000
END:STANDARD
END:VTIMEZONE
BEGIN:VEVENT
UID:153-140
DTSTAMP:20260425T110133Z
SUMMARY:Gadsden County (FL) Alumnae Chapter Anniversary
LOCATION:
ORGANIZER;CN=Southern Region Tech Chair:MAILTO:technology@dstsouthernregion
 .com
RRULE:FREQ=YEARLY;BYMONTH=11;BYDAY=30;UNTIL=20360517T000000Z
DTSTART;TZID=America/New_York;VALUE=DATE:20240517
DTEND;TZID=America/New_York;VALUE=DATE:20240518
X-ALT-DESC;FMTTYPE=TEXT/HTML:<p>Happy Charter Day to the GADSDEN COUNTY (FL
 ) ALUMNAE Chapter in the Sunshine State of Florida!</p>\n
CATEGORIES:Chapter Anniversary,  Open Events
URL;VALUE=URI:https://dstsouthernregion.com/mc-events/chapter-anniversary-1
 11/?mc_id=153
METHOD:PUBLISH
END:VEVENT
END:VCALENDAR