BEGIN:VCALENDAR
VERSION:2.0
PRODID:spatie/icalendar-generator
DESCRIPTION:Events from Dynamic Southern Region
X-WR-CALDESC:Events from Dynamic Southern Region
REFRESH-INTERVAL;VALUE=DURATION:PT1440M
X-PUBLISHED-TTL:PT1440M
BEGIN:VTIMEZONE
TZID:America/New_York
BEGIN:DAYLIGHT
DTSTART:20260308T020000Z
TZOFFSETFROM:-0500
TZOFFSETTO:-0400
END:DAYLIGHT
BEGIN:STANDARD
DTSTART:20261101T020000Z
TZOFFSETFROM:-0400
TZOFFSETTO:-0500
END:STANDARD
BEGIN:DAYLIGHT
DTSTART:20270314T020000Z
TZOFFSETFROM:-0500
TZOFFSETTO:-0400
END:DAYLIGHT
END:VTIMEZONE
BEGIN:VTIMEZONE
TZID:UTC
BEGIN:STANDARD
DTSTART:20250729T144615Z
TZOFFSETFROM:+0000
TZOFFSETTO:+0000
END:STANDARD
END:VTIMEZONE
BEGIN:VEVENT
UID:129-3
DTSTAMP:20260425T144615Z
SUMMARY:Natchez Alumnae Chapter Anniversary
LOCATION:
ORGANIZER;CN=Tarsheika West:MAILTO:shanny8389@gmail.com
RRULE:FREQ=YEARLY;BYMONTH=11;BYDAY=19;UNTIL=20351119T000000Z
DTSTART;TZID=America/New_York;VALUE=DATE:20261119
DTEND;TZID=America/New_York;VALUE=DATE:20261120
X-ALT-DESC;FMTTYPE=TEXT/HTML:Happy Charter Day to the NATCHEZ ALUMNAE Chapt
 er in the Hospitality State of Mississippi!
CATEGORIES:Chapter Anniversary,  Open Events
URL;VALUE=URI:https://dstsouthernregion.com/mc-events/natchez-alumnae-chapt
 er-anniversary/?mc_id=129
METHOD:PUBLISH
END:VEVENT
END:VCALENDAR